BEGIN:VCALENDAR
VERSION:2.0
PRODID:-//Contratero//ES
CALSCALE:GREGORIAN
METHOD:PUBLISH
BEGIN:VEVENT
UID:MRR SDA SCS 2025/153@contratero.es
DTSTAMP:20260419T220827Z
DTSTART:20260126T235959
DTEND:20260127T005959
SUMMARY:Cierre: Contrato de los servicios de la implantación\, sopo
DESCRIPTION:Contrato de los servicios de la implantación\, soporte y mantenimiento del software del centro de control clínico asistencial para el Plan de Atención Digital Personalizado (PADP) del Servicio Cántabro...\\n\\nOrganismo: Servicio Cántabro de Salud\\n\\nVer en Contratero: https://contratero.es/contracts/MRR SDA SCS 2025/153
URL:https://contratero.es/contracts/MRR SDA SCS 2025/153
STATUS:CONFIRMED
BEGIN:VALARM
TRIGGER:-P1D
ACTION:DISPLAY
DESCRIPTION:Recordatorio: Contrato de los servicios de l
END:VALARM
END:VEVENT
END:VCALENDAR